BEGIN:VCALENDAR
VERSION:2.0
PRODID:icalendar-ruby
CALSCALE:GREGORIAN
METHOD:PUBLISH
BEGIN:VEVENT
DTSTAMP:20260422T095416Z
UID:6-462396@standrewsanglicancalgary.ca
DTSTART:20261018T140000Z
DTEND:20261018T153000Z
CLASS:PUBLIC
CREATED:20260421T185002
DESCRIPTION:Join us for Sunday Worship from the Book of Common Prayer. All 
 are welcome!
LAST-MODIFIED:20260421T185002
LOCATION:1611 St. Andrew's Place NW\, Calgary\, AB
SUMMARY:Sunday Morning Worship
URL;VALUE=URI:https://standrewsanglicancalgary.ca/events/sunday-morning-wor
 ship/2026-10-18
ATTACH;FILENAME=St.-Andrew%27s-front-2.png;FMTTYPE=image/png:https://dq5pwp
 g1q8ru0.cloudfront.net/2023/09/14/14/13/52/ccf41469-b675-4803-94ed-e3e5c80
 43d3f/St.-Andrew%2527s-front-2.png
END:VEVENT
END:VCALENDAR
