BEGIN:VCALENDAR
VERSION:2.0
PRODID:icalendar-ruby
CALSCALE:GREGORIAN
METHOD:PUBLISH
BEGIN:VEVENT
DTSTAMP:20260422T113024Z
UID:7-462570@standrewsanglicancalgary.ca
DTSTART:20261025T163000Z
DTEND:20261025T180000Z
CLASS:PUBLIC
CREATED:20260421T185002
DESCRIPTION:Join us for worship from the Book of Alternative Services. This
  service is also live-streamed. Click here to access the secure Zoom link.
  All are welcome!
LAST-MODIFIED:20260421T185002
LOCATION:1611 St. Andrew's Place NW\, Calgary\, AB
SUMMARY:Sunday Morning Worship
URL;VALUE=URI:https://standrewsanglicancalgary.ca/events/sunday-morning-wor
 ship--7/2026-10-25
ATTACH;FILENAME=St.-Andrew%27s-front-2.png;FMTTYPE=image/png:https://dq5pwp
 g1q8ru0.cloudfront.net/2023/09/14/14/14/23/8d44e169-61a4-42a3-9f06-defd1df
 d6e76/St.-Andrew%2527s-front-2.png
END:VEVENT
END:VCALENDAR
